BEGIN:VCALENDAR
VERSION:2.0
PRODID:-//JUDO | TV Concordia Enger//NONSGML kigkonsult.se iCalcreator 2.30
 .10//
CALSCALE:GREGORIAN
METHOD:PUBLISH
UID:7a3ed1d4-9212-4d91-833a-a13abcec4f1e
X-WR-CALNAME:iCagenda
X-WR-CALDESC:Event Management Extension for Joomla!
X-WR-RELCALID:3E26604A-50F4-4449-8B3E-E4F4932D05B5
X-WR-TIMEZONE:UTC
BEGIN:VTIMEZONE
TZID:UTC
END:VTIMEZONE
BEGIN:VEVENT
UID:45a0fa68-199e-4c87-b7ad-9859b2f41571
DTSTAMP:20260419T123240Z
CATEGORIES:Judo-Termine
CLASS:PUBLIC
DESCRIPTION:
DTSTART:20240515T145200Z
DTEND:20240515T145200Z
GEO:+52.115948;+8.689094
LOCATION:Sporthalle KMG Herford
ORGANIZER:
SEQUENCE:1
SUMMARY:Schulsportmeisterschaft Herford
TRANSP:OPAQUE
URL:https://judo-enger.de/index.php/component/icagenda/8-wettkampf-5/2024-0
 5-15-14-52.html
END:VEVENT
END:VCALENDAR
