BEGIN:VCALENDAR
VERSION:2.0
PRODID:-//JUDO | TV Concordia Enger//NONSGML kigkonsult.se iCalcreator 2.30
 .10//
CALSCALE:GREGORIAN
METHOD:PUBLISH
UID:d0954bdb-b08e-4a8a-a2c5-8c5df8d9a3e9
X-WR-CALNAME:iCagenda
X-WR-CALDESC:Event Management Extension for Joomla!
X-WR-RELCALID:3E26604A-50F4-4449-8B3E-E4F4932D05B5
X-WR-TIMEZONE:UTC
BEGIN:VTIMEZONE
TZID:UTC
END:VTIMEZONE
BEGIN:VEVENT
UID:3ca4f1a0-bbb5-4f5c-bd4b-80fbd98a3391
DTSTAMP:20260420T073501Z
CATEGORIES:Judo-Termine
CLASS:PUBLIC
DESCRIPTION:
DTSTART:20240204T120000Z
DTEND:20240204T144300Z
GEO:+52.115948;+8.689094
LOCATION:Sporthalle KMG Herford
ORGANIZER:
SEQUENCE:1
SUMMARY:BEM PSV Herford
TRANSP:OPAQUE
URL:https://judo-enger.de/index.php/component/icagenda/5-wettkampf-2/2024-0
 2-04-12-00.html
END:VEVENT
END:VCALENDAR
